BEGIN:VCALENDAR
VERSION:2.0
PRODID:spatie/icalendar-generator
DESCRIPTION:Events from Laketon Township
X-WR-CALDESC:Events from Laketon Township
REFRESH-INTERVAL;VALUE=DURATION:PT1440M
X-PUBLISHED-TTL:PT1440M
BEGIN:VTIMEZONE
TZID:America/Detroit
BEGIN:STANDARD
DTSTART:20251102T020000Z
TZOFFSETFROM:-0400
TZOFFSETTO:-0500
END:STANDARD
BEGIN:DAYLIGHT
DTSTART:20260308T020000Z
TZOFFSETFROM:-0500
TZOFFSETTO:-0400
END:DAYLIGHT
BEGIN:STANDARD
DTSTART:20261101T020000Z
TZOFFSETFROM:-0400
TZOFFSETTO:-0500
END:STANDARD
END:VTIMEZONE
BEGIN:VTIMEZONE
TZID:UTC
BEGIN:STANDARD
DTSTART:20250725T155858Z
TZOFFSETFROM:+0000
TZOFFSETTO:+0000
END:STANDARD
END:VTIMEZONE
BEGIN:VEVENT
UID:242-161
DTSTAMP:20260421T155858Z
SUMMARY:OFFICE CLOSED - Memorial Day
LOCATION:Laketon Township Hall
ORGANIZER;CN=Molly Joslyn:MAILTO:mjoslyn@laketon.org
DTSTART;TZID=America/Detroit:20260525T083000
DTEND;TZID=America/Detroit:20260525T093000
X-ALT-DESC;FMTTYPE=TEXT/HTML:In observance of the Memorial Day holiday\, th
 e township hall will be closed on Monday\, May 25\, 2026.
CATEGORIES:General
URL;VALUE=URI:https://laketontwpmi.gov/mc-events/office-closed-memorial-day
 /
METHOD:PUBLISH
END:VEVENT
END:VCALENDAR