BEGIN:VCALENDAR
VERSION:2.0
PRODID:spatie/icalendar-generator
DESCRIPTION:Events from Laketon Township
X-WR-CALDESC:Events from Laketon Township
REFRESH-INTERVAL;VALUE=DURATION:PT1440M
X-PUBLISHED-TTL:PT1440M
BEGIN:VTIMEZONE
TZID:America/Detroit
BEGIN:STANDARD
DTSTART:20231105T020000Z
TZOFFSETFROM:-0400
TZOFFSETTO:-0500
END:STANDARD
BEGIN:DAYLIGHT
DTSTART:20240310T020000Z
TZOFFSETFROM:-0500
TZOFFSETTO:-0400
END:DAYLIGHT
END:VTIMEZONE
BEGIN:VTIMEZONE
TZID:UTC
BEGIN:STANDARD
DTSTART:20250724T105412Z
TZOFFSETFROM:+0000
TZOFFSETTO:+0000
END:STANDARD
END:VTIMEZONE
BEGIN:VEVENT
UID:63-32
DTSTAMP:20260420T105412Z
SUMMARY:FREE Muskegon County Recycling Event
LOCATION:Muskegon County Recycling Event 1350 E Keating AVe  Muskegon MI 49
 445
ORGANIZER;CN=Veronica West:MAILTO:vwest@laketontwpmi.gov
DTSTART;TZID=America/Detroit:20240427T090000
DTEND;TZID=America/Detroit:20240427T130000
X-ALT-DESC;FMTTYPE=TEXT/HTML:9:00 am to 1:00 pm at 1350 E Keating Ave Muske
 gon County Residents ONLY for the following materials only. Scrap Tires Ha
 zardous Waste Electronics Click Here for a detailed informational flyer. 
  Call Muskegon County at 231-724-6001 for more information. &amp;nbsp\;
CATEGORIES:General
URL;VALUE=URI:https://laketontwpmi.gov/mc-events/free-muskegon-county-recyc
 ling-event/
METHOD:PUBLISH
END:VEVENT
END:VCALENDAR